BEGIN:VCALENDAR
METHOD:PUBLISH
PRODID:-//ballcharts.com/BenbrookStarsprep//NONSGML iCalcreator 2.6//
VERSION:2.0
X-WR-TIMEZONE:US/Central
X-WR-CALNAME:RDFA Benbrook Stars Prep Academy Football
BEGIN:VEVENT
UID:20130710T042708CEST-6774ZoKVv7@ballcharts.com/BenbrookStarsprep
DTSTAMP:20130710T022708Z
DTSTART:20120714T110000
DTEND:20120714T130000
LOCATION:
SUMMARY:Team sign up for players
END:VEVENT
BEGIN:VEVENT
UID:20130710T042708CEST-6780734uNS@ballcharts.com/BenbrookStarsprep
DTSTAMP:20130710T022708Z
DTSTART:20120721T110000
DTEND:20120721T130000
LOCATION:
SUMMARY:Team sign up for players
END:VEVENT
BEGIN:VEVENT
UID:20130710T042708CEST-6786hThzx4@ballcharts.com/BenbrookStarsprep
DTSTAMP:20130710T022708Z
DTSTART:20120728T110000
DTEND:20120728T130000
LOCATION:
SUMMARY:Team sign up for players
END:VEVENT
BEGIN:VEVENT
UID:20130710T042708CEST-67928XHtUh@ballcharts.com/BenbrookStarsprep
DTSTAMP:20130710T022708Z
DTSTART:20120804T110000
DTEND:20120804T130000
LOCATION:
SUMMARY:Team sign up for players
END:VEVENT
BEGIN:VEVENT
UID:20130710T042708CEST-6797fU1Vll@ballcharts.com/BenbrookStarsprep
DTSTAMP:20130710T022708Z
DTSTART:20120814T180000
DTEND:20120814T195000
LOCATION:
SUMMARY:Practice starts
END:VEVENT
BEGIN:VEVENT
UID:20130710T042708CEST-6803cvMlOR@ballcharts.com/BenbrookStarsprep
DTSTAMP:20130710T022708Z
DTSTART:20120814T180000
DTEND:20120814T195000
LOCATION:
SUMMARY:Practice
END:VEVENT
BEGIN:VEVENT
UID:20130710T042708CEST-6809o8DHwV@ballcharts.com/BenbrookStarsprep
DTSTAMP:20130710T022708Z
DTSTART:20120815T180000
DTEND:20120815T195000
LOCATION:
SUMMARY:practice
END:VEVENT
BEGIN:VEVENT
UID:20130710T042708CEST-68145OhHSg@ballcharts.com/BenbrookStarsprep
DTSTAMP:20130710T022708Z
DTSTART:20120816T180000
DTEND:20120816T195000
LOCATION:
SUMMARY:practice
END:VEVENT
BEGIN:VEVENT
UID:20130710T042708CEST-6820NCVDFe@ballcharts.com/BenbrookStarsprep
DTSTAMP:20130710T022708Z
DTSTART:20120821T180000
DTEND:20120821T195000
LOCATION:
SUMMARY:practice
END:VEVENT
BEGIN:VEVENT
UID:20130710T042708CEST-6826vMgwnw@ballcharts.com/BenbrookStarsprep
DTSTAMP:20130710T022708Z
DTSTART:20120822T180000
DTEND:20120822T195000
LOCATION:
SUMMARY:practice
END:VEVENT
BEGIN:VEVENT
UID:20130710T042708CEST-6831P78cIv@ballcharts.com/BenbrookStarsprep
DTSTAMP:20130710T022708Z
DTSTART:20120823T180000
DTEND:20120823T195000
LOCATION:
SUMMARY:practice
END:VEVENT
BEGIN:VEVENT
UID:20130710T042708CEST-6837VcDrtd@ballcharts.com/BenbrookStarsprep
DTSTAMP:20130710T022708Z
DTSTART:20120828T180000
DTEND:20120828T195000
LOCATION:
SUMMARY: practice
END:VEVENT
BEGIN:VEVENT
UID:20130710T042708CEST-6843U1DGCP@ballcharts.com/BenbrookStarsprep
DTSTAMP:20130710T022708Z
DTSTART:20120829T180000
DTEND:20120829T195000
LOCATION:
SUMMARY:practice
END:VEVENT
BEGIN:VEVENT
UID:20130710T042708CEST-6848me8heB@ballcharts.com/BenbrookStarsprep
DTSTAMP:20130710T022708Z
DTSTART:20120830T180000
DTEND:20120830T195000
LOCATION:
SUMMARY:practice
END:VEVENT
BEGIN:VEVENT
UID:20130710T042708CEST-6854NXJ0i0@ballcharts.com/BenbrookStarsprep
DTSTAMP:20130710T022708Z
DTSTART:20120904T180000
DTEND:20120904T195000
LOCATION:
SUMMARY:practice
END:VEVENT
BEGIN:VEVENT
UID:20130710T042708CEST-6860vSVekw@ballcharts.com/BenbrookStarsprep
DTSTAMP:20130710T022708Z
DTSTART:20120905T180000
DTEND:20120905T195000
LOCATION:
SUMMARY:practice
END:VEVENT
BEGIN:VEVENT
UID:20130710T042708CEST-6865vu2uJ2@ballcharts.com/BenbrookStarsprep
DTSTAMP:20130710T022708Z
DTSTART:20120906T180000
DTEND:20120906T195000
LOCATION:
SUMMARY:practice
END:VEVENT
BEGIN:VEVENT
UID:20130710T042708CEST-6871kB06Xn@ballcharts.com/BenbrookStarsprep
DTSTAMP:20130710T022708Z
DTSTART:20120908T000100
DTEND:20120908T000100
LOCATION:
SUMMARY:Season kicksoff first game
END:VEVENT
BEGIN:VEVENT
UID:20130710T042708CEST-6877uNx1gZ@ballcharts.com/BenbrookStarsprep
DTSTAMP:20130710T022708Z
DTSTART:20120908T000100
DTEND:20120908T000100
LOCATION:
SUMMARY:Season kicksoff first game
END:VEVENT
BEGIN:VEVENT
UID:20130710T042708CEST-6883MxekZO@ballcharts.com/BenbrookStarsprep
DTSTAMP:20130710T022708Z
DTSTART:20121006T110000
DTEND:20121006T130000
LOCATION:Practice field
SUMMARY:Team photo day
END:VEVENT
BEGIN:VEVENT
UID:20130710T042708CEST-6888w8i5Tb@ballcharts.com/BenbrookStarsprep
DTSTAMP:20130710T022708Z
DTSTART:20130629T100000
DTEND:20130629T180000
LOCATION:TBA
SUMMARY:Stars 7 Tournament
END:VEVENT
BEGIN:VEVENT
UID:20130710T042708CEST-6894OhDg4u@ballcharts.com/BenbrookStarsprep
DTSTAMP:20130710T022708Z
DTSTART:20130711T000100
DTEND:20130711T000100
LOCATION:
SUMMARY:event canceled extreme heat
END:VEVENT
BEGIN:VEVENT
UID:20130710T042708CEST-6900vbr8LD@ballcharts.com/BenbrookStarsprep
DTSTAMP:20130710T022708Z
DTSTART:20130711T180000
DTEND:20130711T195000
LOCATION:Benbrook Middle School
SUMMARY:Free Invitational Training Camp
END:VEVENT
BEGIN:VEVENT
UID:20130710T042708CEST-6905TJnvVW@ballcharts.com/BenbrookStarsprep
DTSTAMP:20130710T022708Z
DTSTART:20130812T180000
DTEND:20130812T195000
LOCATION:Benbrook Middle School
SUMMARY:Stars Invitational player Camp Workout
END:VEVENT
BEGIN:VEVENT
UID:20130710T042708CEST-6911KvsvtL@ballcharts.com/BenbrookStarsprep
DTSTAMP:20130710T022708Z
DTSTART:20130813T180000
DTEND:20130813T195000
LOCATION:Benbrook Middle School
SUMMARY:First practice
END:VEVENT
BEGIN:VEVENT
UID:20130710T042708CEST-6917uEvkEz@ballcharts.com/BenbrookStarsprep
DTSTAMP:20130710T022708Z
DTSTART:20130815T180000
DTEND:20130815T195000
LOCATION:Benbrook Middle School
SUMMARY:Practice
END:VEVENT
BEGIN:VEVENT
UID:20130710T042708CEST-6922xEeEPl@ballcharts.com/BenbrookStarsprep
DTSTAMP:20130710T022708Z
DTSTART:20130819T180000
DTEND:20130819T195000
LOCATION:Benbrook Middle School
SUMMARY:Practice
END:VEVENT
BEGIN:VEVENT
UID:20130710T042708CEST-6928kVfa4O@ballcharts.com/BenbrookStarsprep
DTSTAMP:20130710T022708Z
DTSTART:20130820T180000
DTEND:20130820T195000
LOCATION:Benbrook Middle School
SUMMARY:Practice
END:VEVENT
BEGIN:VEVENT
UID:20130710T042708CEST-6934M7ioAj@ballcharts.com/BenbrookStarsprep
DTSTAMP:20130710T022708Z
DTSTART:20130822T180000
DTEND:20130822T195000
LOCATION:Benbrook Middle School
SUMMARY:Practice
END:VEVENT
BEGIN:VEVENT
UID:20130710T042708CEST-6939GNgWkN@ballcharts.com/BenbrookStarsprep
DTSTAMP:20130710T022708Z
DTSTART:20130902T180000
DTEND:20130902T195000
LOCATION:Benbrook Middle School
SUMMARY:Practice
END:VEVENT
BEGIN:VEVENT
UID:20130710T042708CEST-6945dR9ZRE@ballcharts.com/BenbrookStarsprep
DTSTAMP:20130710T022708Z
DTSTART:20130903T180000
DTEND:20130903T195000
LOCATION:Benbrook Middle School
SUMMARY:Practice
END:VEVENT
BEGIN:VEVENT
UID:20130710T042708CEST-6951Zdgs5H@ballcharts.com/BenbrookStarsprep
DTSTAMP:20130710T022708Z
DTSTART:20130905T180000
DTEND:20130905T195000
LOCATION:Benbrook Middle School
SUMMARY:Practice
END:VEVENT
BEGIN:VEVENT
UID:20130710T042708CEST-6956uZDEJR@ballcharts.com/BenbrookStarsprep
DTSTAMP:20130710T022708Z
DTSTART:20130907T120000
DTEND:20130907T120000
LOCATION:South West Christian Football Stadium
SUMMARY:Benbrook Kickoff Classic Game Start Time TBA
END:VEVENT
END:VCALENDAR
