BEGIN:VCALENDAR
METHOD:PUBLISH
PRODID:-//www.ballcharts.com/gtll9minor2010//NONSGML iCalcreator 2.6//
VERSION:2.0
X-WR-TIMEZONE:US/Pacific
BEGIN:VEVENT
UID:20100701T222942CEST-5914J163gK@www.ballcharts.com/gtll9minor2010
DTSTAMP:20100701T202942Z
DESCRIPTION:Parent's Night
DTSTART:20100322T183000
DTEND:20100322T203000
LOCATION:Blackhawk Middle School
END:VEVENT
BEGIN:VEVENT
UID:20100701T222942CEST-5920iRG8lV@www.ballcharts.com/gtll9minor2010
DTSTAMP:20100701T202942Z
DESCRIPTION:Practice
DTSTART:20100323T173000
DTEND:20100323T193000
LOCATION:Extra Innings
END:VEVENT
BEGIN:VEVENT
UID:20100701T222942CEST-5926AaxbZ1@www.ballcharts.com/gtll9minor2010
DTSTAMP:20100701T202942Z
DESCRIPTION:Practice
DTSTART:20100324T173000
DTEND:20100324T193000
LOCATION:Extra Innings
END:VEVENT
BEGIN:VEVENT
UID:20100701T222942CEST-59312BnKGt@www.ballcharts.com/gtll9minor2010
DTSTAMP:20100701T202942Z
DESCRIPTION:Practice
DTSTART:20100325T173000
DTEND:20100325T193000
LOCATION:Extra Innings
END:VEVENT
BEGIN:VEVENT
UID:20100701T222942CEST-5937m067S0@www.ballcharts.com/gtll9minor2010
DTSTAMP:20100701T202942Z
DESCRIPTION:Practice
DTSTART:20100326T173000
DTEND:20100326T193000
LOCATION:Haley Elementary
END:VEVENT
BEGIN:VEVENT
UID:20100701T222942CEST-5942VZnXUV@www.ballcharts.com/gtll9minor2010
DTSTAMP:20100701T202942Z
DESCRIPTION:Manditory Maintenance Day
DTSTART:20100327T080000
DTEND:20100327T100000
LOCATION:GT Minor
END:VEVENT
BEGIN:VEVENT
UID:20100701T222942CEST-5948EsSZvE@www.ballcharts.com/gtll9minor2010
DTSTAMP:20100701T202942Z
DESCRIPTION:Coaches Clinic
DTSTART:20100329T180000
DTEND:20100329T200000
LOCATION:Strike Zone
END:VEVENT
BEGIN:VEVENT
UID:20100701T222942CEST-59536fzoLz@www.ballcharts.com/gtll9minor2010
DTSTAMP:20100701T202942Z
DESCRIPTION:Practice
DTSTART:20100330T173000
DTEND:20100330T193000
LOCATION:Haley Elementary
END:VEVENT
BEGIN:VEVENT
UID:20100701T222942CEST-5959kO3ecU@www.ballcharts.com/gtll9minor2010
DTSTAMP:20100701T202942Z
DESCRIPTION:Practice
DTSTART:20100331T173000
DTEND:20100331T193000
LOCATION:Haley Elementary
END:VEVENT
BEGIN:VEVENT
UID:20100701T222942CEST-5964kbmzvT@www.ballcharts.com/gtll9minor2010
DTSTAMP:20100701T202942Z
DESCRIPTION:Practice
DTSTART:20100401T173000
DTEND:20100401T193000
LOCATION:Haley Elementary
END:VEVENT
BEGIN:VEVENT
UID:20100701T222942CEST-5969nmix3Z@www.ballcharts.com/gtll9minor2010
DTSTAMP:20100701T202942Z
DESCRIPTION:Practice
DTSTART:20100402T173000
DTEND:20100402T193000
LOCATION:Haley Elementary
END:VEVENT
BEGIN:VEVENT
UID:20100701T222942CEST-59759AX1SO@www.ballcharts.com/gtll9minor2010
DTSTAMP:20100701T202942Z
DESCRIPTION:Practice
DTSTART:20100403T130000
DTEND:20100403T150000
LOCATION:Haley Elementary
END:VEVENT
BEGIN:VEVENT
UID:20100701T222942CEST-5980KbSH8R@www.ballcharts.com/gtll9minor2010
DTSTAMP:20100701T202942Z
DESCRIPTION:Practice
DTSTART:20100405T173000
DTEND:20100405T193000
LOCATION:Haley Elementary
END:VEVENT
BEGIN:VEVENT
UID:20100701T222942CEST-5986JzGTzG@www.ballcharts.com/gtll9minor2010
DTSTAMP:20100701T202942Z
DESCRIPTION:Practice
DTSTART:20100406T173000
DTEND:20100406T193000
LOCATION:Haley Elementary
END:VEVENT
BEGIN:VEVENT
UID:20100701T222942CEST-5991W06iF9@www.ballcharts.com/gtll9minor2010
DTSTAMP:20100701T202942Z
DESCRIPTION:Practice
DTSTART:20100407T173000
DTEND:20100407T193000
LOCATION:Haley Elementary
END:VEVENT
BEGIN:VEVENT
UID:20100701T222942CEST-5997Dko9zu@www.ballcharts.com/gtll9minor2010
DTSTAMP:20100701T202942Z
DESCRIPTION:Practice
DTSTART:20100408T193000
DTEND:20100408T213000
LOCATION:Haley Elementary
END:VEVENT
BEGIN:VEVENT
UID:20100701T222942CEST-6002JzzLGF@www.ballcharts.com/gtll9minor2010
DTSTAMP:20100701T202942Z
DESCRIPTION:Practice
DTSTART:20100409T173000
DTEND:20100409T193000
LOCATION:Haley Elementary
END:VEVENT
BEGIN:VEVENT
UID:20100701T222942CEST-6008S6Shn8@www.ballcharts.com/gtll9minor2010
DTSTAMP:20100701T202942Z
DESCRIPTION:Laser Tag
DTSTART:20100412T173000
DTEND:20100412T193000
LOCATION:Ultra Zone
END:VEVENT
BEGIN:VEVENT
UID:20100701T222942CEST-6013oo8BU5@www.ballcharts.com/gtll9minor2010
DTSTAMP:20100701T202942Z
DESCRIPTION:Practice
DTSTART:20100413T173000
DTEND:20100413T193000
LOCATION:Haley Elementary
END:VEVENT
BEGIN:VEVENT
UID:20100701T222942CEST-6019eZWS6h@www.ballcharts.com/gtll9minor2010
DTSTAMP:20100701T202942Z
DESCRIPTION:Practice Game vs. Waiter on the Way
DTSTART:20100414T173000
DTEND:20100414T193000
LOCATION:GT Minor
END:VEVENT
BEGIN:VEVENT
UID:20100701T222942CEST-6024zvu7Ui@www.ballcharts.com/gtll9minor2010
DTSTAMP:20100701T202942Z
DESCRIPTION:Practice
DTSTART:20100415T173000
DTEND:20100415T193000
LOCATION:Haley Elementary
END:VEVENT
BEGIN:VEVENT
UID:20100701T222942CEST-60295aNVN0@www.ballcharts.com/gtll9minor2010
DTSTAMP:20100701T202942Z
DESCRIPTION:Practice
DTSTART:20100416T173000
DTEND:20100416T193000
LOCATION:Haley Elementary
END:VEVENT
BEGIN:VEVENT
UID:20100701T222942CEST-6035EI4G7G@www.ballcharts.com/gtll9minor2010
DTSTAMP:20100701T202942Z
DTSTART:20100417T094500
DTEND:20100417T114500
LOCATION:GT Minor
SUMMARY:Current Fire 8 @ Serenity 7
END:VEVENT
BEGIN:VEVENT
UID:20100701T222942CEST-60400svt99@www.ballcharts.com/gtll9minor2010
DTSTAMP:20100701T202942Z
DESCRIPTION:Practice
DTSTART:20100419T173000
DTEND:20100419T193000
LOCATION:Haley Elementary
END:VEVENT
BEGIN:VEVENT
UID:20100701T222942CEST-6046Uh1f7B@www.ballcharts.com/gtll9minor2010
DTSTAMP:20100701T202942Z
DTSTART:20100420T191500
DTEND:20100420T211500
LOCATION:GT Minor
SUMMARY:Serenity 10 @ Gladieux 11
END:VEVENT
BEGIN:VEVENT
UID:20100701T222942CEST-60511jWVok@www.ballcharts.com/gtll9minor2010
DTSTAMP:20100701T202942Z
DESCRIPTION:Practice
DTSTART:20100421T173000
DTEND:20100421T193000
LOCATION:Haley Elementary
END:VEVENT
BEGIN:VEVENT
UID:20100701T222942CEST-6057EUGH2i@www.ballcharts.com/gtll9minor2010
DTSTAMP:20100701T202942Z
DESCRIPTION:Practice
DTSTART:20100422T173000
DTEND:20100422T193000
LOCATION:Haley Elementary
END:VEVENT
BEGIN:VEVENT
UID:20100701T222942CEST-6062UboVkR@www.ballcharts.com/gtll9minor2010
DTSTAMP:20100701T202942Z
DTSTART:20100423T173000
DTEND:20100423T193000
LOCATION:GT Minor
SUMMARY:Kelly Chevrolet 3 @ Serenity 11
END:VEVENT
BEGIN:VEVENT
UID:20100701T222942CEST-6068dfue6j@www.ballcharts.com/gtll9minor2010
DTSTAMP:20100701T202942Z
DESCRIPTION:Practice
DTSTART:20100424T130000
DTEND:20100424T150000
LOCATION:Haley Elementary
END:VEVENT
BEGIN:VEVENT
UID:20100701T222942CEST-6073ZRKRH2@www.ballcharts.com/gtll9minor2010
DTSTAMP:20100701T202942Z
DESCRIPTION:Practice
DTSTART:20100426T173000
DTEND:20100426T193000
LOCATION:Haley Elementary
END:VEVENT
BEGIN:VEVENT
UID:20100701T222942CEST-6079rUKz26@www.ballcharts.com/gtll9minor2010
DTSTAMP:20100701T202942Z
DESCRIPTION:Practice
DTSTART:20100427T173000
DTEND:20100427T193000
LOCATION:Haley Elementary
END:VEVENT
BEGIN:VEVENT
UID:20100701T222942CEST-6084Wt4XtV@www.ballcharts.com/gtll9minor2010
DTSTAMP:20100701T202942Z
DTSTART:20100428T173000
DTEND:20100428T193000
LOCATION:GT Minor
SUMMARY:Serenity 3 @ Partners First 11
END:VEVENT
BEGIN:VEVENT
UID:20100701T222942CEST-6089L47UPp@www.ballcharts.com/gtll9minor2010
DTSTAMP:20100701T202942Z
DESCRIPTION:Practice
DTSTART:20100429T173000
DTEND:20100429T193000
LOCATION:Haley Elementary
END:VEVENT
BEGIN:VEVENT
UID:20100701T222942CEST-60953FCZuK@www.ballcharts.com/gtll9minor2010
DTSTAMP:20100701T202942Z
DTSTART:20100430T173000
DTEND:20100430T193000
LOCATION:GT Minor
SUMMARY:Allstate 4 @ Serenity 5
END:VEVENT
BEGIN:VEVENT
UID:20100701T222942CEST-6100kjAOZt@www.ballcharts.com/gtll9minor2010
DTSTAMP:20100701T202942Z
DESCRIPTION:Practice
DTSTART:20100501T130000
DTEND:20100501T150000
LOCATION:Haley Elementary
END:VEVENT
BEGIN:VEVENT
UID:20100701T222942CEST-6106pu0pwp@www.ballcharts.com/gtll9minor2010
DTSTAMP:20100701T202942Z
DESCRIPTION:Laser Tag
DTSTART:20100503T173000
DTEND:20100503T193000
LOCATION:Ultra Zone
END:VEVENT
BEGIN:VEVENT
UID:20100701T222942CEST-6111M5a2GE@www.ballcharts.com/gtll9minor2010
DTSTAMP:20100701T202942Z
DESCRIPTION:Practice
DTSTART:20100504T173000
DTEND:20100504T193000
LOCATION:Haley Elementary
END:VEVENT
BEGIN:VEVENT
UID:20100701T222942CEST-6117t3xJJc@www.ballcharts.com/gtll9minor2010
DTSTAMP:20100701T202942Z
DTSTART:20100505T173000
DTEND:20100505T193000
LOCATION:GT Minor
SUMMARY:Serenity 10 @ Dicky&#039\;s 0
END:VEVENT
BEGIN:VEVENT
UID:20100701T222942CEST-6122e2nTUD@www.ballcharts.com/gtll9minor2010
DTSTAMP:20100701T202942Z
DESCRIPTION:Practice
DTSTART:20100506T173000
DTEND:20100506T193000
LOCATION:Haley Elementary
END:VEVENT
BEGIN:VEVENT
UID:20100701T222942CEST-6128W0vJsJ@www.ballcharts.com/gtll9minor2010
DTSTAMP:20100701T202942Z
DTSTART:20100507T191500
DTEND:20100507T211500
LOCATION:GT Minor
SUMMARY:Holiday Inn 2 @ Serenity 9
END:VEVENT
BEGIN:VEVENT
UID:20100701T222942CEST-61336AguRO@www.ballcharts.com/gtll9minor2010
DTSTAMP:20100701T202942Z
DESCRIPTION:Practice
DTSTART:20100508T130000
DTEND:20100508T150000
LOCATION:Haley Elementary
END:VEVENT
BEGIN:VEVENT
UID:20100701T222942CEST-6138UrcU54@www.ballcharts.com/gtll9minor2010
DTSTAMP:20100701T202942Z
DTSTART:20100510T191500
DTEND:20100510T211500
LOCATION:GT Minor
SUMMARY:Serenity 13 @ Little Caesars 6
END:VEVENT
BEGIN:VEVENT
UID:20100701T222942CEST-6144LZ29R4@www.ballcharts.com/gtll9minor2010
DTSTAMP:20100701T202942Z
DESCRIPTION:Practice
DTSTART:20100511T173000
DTEND:20100511T193000
LOCATION:Haley Elementary
END:VEVENT
BEGIN:VEVENT
UID:20100701T222942CEST-6149aglPvW@www.ballcharts.com/gtll9minor2010
DTSTAMP:20100701T202942Z
DTSTART:20100512T191500
DTEND:20100512T211500
LOCATION:GT Minor
SUMMARY:Waiter on the Way 3 @ Serenity 6
END:VEVENT
BEGIN:VEVENT
UID:20100701T222942CEST-6155KVwaIN@www.ballcharts.com/gtll9minor2010
DTSTAMP:20100701T202942Z
DESCRIPTION:Practice
DTSTART:20100513T173000
DTEND:20100513T193000
LOCATION:Haley Elementary
END:VEVENT
BEGIN:VEVENT
UID:20100701T222942CEST-6160rUZIiG@www.ballcharts.com/gtll9minor2010
DTSTAMP:20100701T202942Z
DESCRIPTION:Practice
DTSTART:20100514T173000
DTEND:20100514T193000
LOCATION:Haley Elementary
END:VEVENT
BEGIN:VEVENT
UID:20100701T222942CEST-6166FnBerC@www.ballcharts.com/gtll9minor2010
DTSTAMP:20100701T202942Z
DESCRIPTION:Make Up Game - Holiday Inn
DTSTART:20100515T140000
DTEND:20100515T160000
LOCATION:GT Minor
END:VEVENT
BEGIN:VEVENT
UID:20100701T222942CEST-6171uVLtpU@www.ballcharts.com/gtll9minor2010
DTSTAMP:20100701T202942Z
DTSTART:20100517T191500
DTEND:20100517T211500
LOCATION:GT Minor
SUMMARY:Serenity @ Current Fire
END:VEVENT
BEGIN:VEVENT
UID:20100701T222942CEST-6177StCvLT@www.ballcharts.com/gtll9minor2010
DTSTAMP:20100701T202942Z
DESCRIPTION:Practice
DTSTART:20100518T173000
DTEND:20100518T193000
LOCATION:Haley Elementary
END:VEVENT
BEGIN:VEVENT
UID:20100701T222942CEST-61825XTiSK@www.ballcharts.com/gtll9minor2010
DTSTAMP:20100701T202942Z
DESCRIPTION:Practice
DTSTART:20100519T173000
DTEND:20100519T193000
LOCATION:Haley Elementary
END:VEVENT
BEGIN:VEVENT
UID:20100701T222942CEST-6188nDj82Z@www.ballcharts.com/gtll9minor2010
DTSTAMP:20100701T202942Z
DTSTART:20100520T173000
DTEND:20100520T193000
LOCATION:GT Minor
SUMMARY:Gladieux 3 @ Serenity 11
END:VEVENT
BEGIN:VEVENT
UID:20100701T222942CEST-61939IHD97@www.ballcharts.com/gtll9minor2010
DTSTAMP:20100701T202942Z
DESCRIPTION:Practice
DTSTART:20100521T173000
DTEND:20100521T193000
LOCATION:Haley Elementary
END:VEVENT
BEGIN:VEVENT
UID:20100701T222942CEST-61982LEnSs@www.ballcharts.com/gtll9minor2010
DTSTAMP:20100701T202942Z
DESCRIPTION:Make Up Game - Waiter on the Way
DTSTART:20100522T140000
DTEND:20100522T160000
LOCATION:GT Minor
END:VEVENT
BEGIN:VEVENT
UID:20100701T222942CEST-6204MjZ2Ox@www.ballcharts.com/gtll9minor2010
DTSTAMP:20100701T202942Z
DESCRIPTION:Georgetown Little League Day at the TinCaps
DTSTART:20100523T150500
DTEND:20100523T170500
LOCATION:Parkview Field
END:VEVENT
BEGIN:VEVENT
UID:20100701T222942CEST-6209I5PX2U@www.ballcharts.com/gtll9minor2010
DTSTAMP:20100701T202942Z
DESCRIPTION:Practice
DTSTART:20100524T173000
DTEND:20100524T193000
LOCATION:Haley Elementary
END:VEVENT
BEGIN:VEVENT
UID:20100701T222942CEST-6215gTBzhA@www.ballcharts.com/gtll9minor2010
DTSTAMP:20100701T202942Z
DTSTART:20100525T191500
DTEND:20100525T211500
LOCATION:GT Minor
SUMMARY:Serenity 11 @ Kelly Chevrolet 5
END:VEVENT
BEGIN:VEVENT
UID:20100701T222942CEST-62203nIk9e@www.ballcharts.com/gtll9minor2010
DTSTAMP:20100701T202942Z
DESCRIPTION:Practice
DTSTART:20100526T173000
DTEND:20100526T193000
LOCATION:Haley Elementary
END:VEVENT
BEGIN:VEVENT
UID:20100701T222942CEST-6226iPr3VU@www.ballcharts.com/gtll9minor2010
DTSTAMP:20100701T202942Z
DESCRIPTION:Practice
DTSTART:20100527T173000
DTEND:20100527T193000
LOCATION:Haley Elementary
END:VEVENT
BEGIN:VEVENT
UID:20100701T222942CEST-6231ev92nU@www.ballcharts.com/gtll9minor2010
DTSTAMP:20100701T202942Z
DTSTART:20100528T191500
DTEND:20100528T211500
LOCATION:GT Minor
SUMMARY:Partners First 10 @ Serenity 11
END:VEVENT
BEGIN:VEVENT
UID:20100701T222942CEST-62376zus44@www.ballcharts.com/gtll9minor2010
DTSTAMP:20100701T202942Z
DESCRIPTION:Practice
DTSTART:20100529T130000
DTEND:20100529T150000
LOCATION:Haley Elementary
END:VEVENT
BEGIN:VEVENT
UID:20100701T222942CEST-6242MV4Luz@www.ballcharts.com/gtll9minor2010
DTSTAMP:20100701T202942Z
DESCRIPTION:Practice
DTSTART:20100531T173000
DTEND:20100531T193000
LOCATION:Haley Elementary
END:VEVENT
BEGIN:VEVENT
UID:20100701T222942CEST-6248ULrakB@www.ballcharts.com/gtll9minor2010
DTSTAMP:20100701T202942Z
DESCRIPTION:Practice
DTSTART:20100601T173000
DTEND:20100601T193000
LOCATION:Haley Elementary
END:VEVENT
BEGIN:VEVENT
UID:20100701T222942CEST-6253WVFdBa@www.ballcharts.com/gtll9minor2010
DTSTAMP:20100701T202942Z
DESCRIPTION:Practice
DTSTART:20100602T173000
DTEND:20100602T193000
LOCATION:Haley Elementary
END:VEVENT
BEGIN:VEVENT
UID:20100701T222942CEST-6259dfiuEe@www.ballcharts.com/gtll9minor2010
DTSTAMP:20100701T202942Z
DTSTART:20100603T173000
DTEND:20100603T193000
LOCATION:GT Minor
SUMMARY:Serenity 7 @ Allstate 8
END:VEVENT
BEGIN:VEVENT
UID:20100701T222942CEST-6264MDb4Fp@www.ballcharts.com/gtll9minor2010
DTSTAMP:20100701T202942Z
DESCRIPTION:Practice
DTSTART:20100604T173000
DTEND:20100604T193000
LOCATION:Haley Elementary
END:VEVENT
BEGIN:VEVENT
UID:20100701T222942CEST-62692NJLRi@www.ballcharts.com/gtll9minor2010
DTSTAMP:20100701T202942Z
DESCRIPTION:Practice
DTSTART:20100605T130000
DTEND:20100605T150000
LOCATION:Haley Elementary
END:VEVENT
BEGIN:VEVENT
UID:20100701T222942CEST-6275XgbD0Z@www.ballcharts.com/gtll9minor2010
DTSTAMP:20100701T202942Z
DTSTART:20100607T191500
DTEND:20100607T211500
LOCATION:GT Minor
SUMMARY:Dicky&#039\;s 3 @ Serenity 11
END:VEVENT
BEGIN:VEVENT
UID:20100701T222942CEST-6280gZVOuG@www.ballcharts.com/gtll9minor2010
DTSTAMP:20100701T202942Z
DESCRIPTION:Practice
DTSTART:20100608T173000
DTEND:20100608T193000
LOCATION:Haley Elementary
END:VEVENT
BEGIN:VEVENT
UID:20100701T222942CEST-6286MKgtrV@www.ballcharts.com/gtll9minor2010
DTSTAMP:20100701T202942Z
DTSTART:20100609T191500
DTEND:20100609T211500
LOCATION:GT Minor
SUMMARY:Serenity 13 @ Holiday Inn 3
END:VEVENT
BEGIN:VEVENT
UID:20100701T222942CEST-62910v1Mse@www.ballcharts.com/gtll9minor2010
DTSTAMP:20100701T202942Z
DESCRIPTION:Practice
DTSTART:20100610T173000
DTEND:20100610T193000
LOCATION:Haley Elementary
END:VEVENT
BEGIN:VEVENT
UID:20100701T222942CEST-6297WDdm1c@www.ballcharts.com/gtll9minor2010
DTSTAMP:20100701T202942Z
DTSTART:20100611T191500
DTEND:20100611T211500
LOCATION:GT Minor
SUMMARY:Little Caesars @ Serenity
END:VEVENT
BEGIN:VEVENT
UID:20100701T222942CEST-63025nPRCK@www.ballcharts.com/gtll9minor2010
DTSTAMP:20100701T202942Z
DESCRIPTION:Make Up Game - Waiter on the Way
DTSTART:20100612T150000
DTEND:20100612T170000
LOCATION:GT Minor
END:VEVENT
BEGIN:VEVENT
UID:20100701T222942CEST-6308cBdWKe@www.ballcharts.com/gtll9minor2010
DTSTAMP:20100701T202942Z
DESCRIPTION:Practice
DTSTART:20100614T173000
DTEND:20100614T193000
LOCATION:Haley Elementary
END:VEVENT
BEGIN:VEVENT
UID:20100701T222942CEST-6313srLESI@www.ballcharts.com/gtll9minor2010
DTSTAMP:20100701T202942Z
DTSTART:20100615T191500
DTEND:20100615T211500
LOCATION:GT Minor
SUMMARY:Serenity 4 @ Waiter on the Way 10
END:VEVENT
BEGIN:VEVENT
UID:20100701T222942CEST-6319xGmAwU@www.ballcharts.com/gtll9minor2010
DTSTAMP:20100701T202942Z
DTSTART:20100619T110000
DTEND:20100619T130000
LOCATION:GT Minor
SUMMARY:Serenity 19 @ Holiday Inn 2
END:VEVENT
BEGIN:VEVENT
UID:20100701T222942CEST-6324mkvcgM@www.ballcharts.com/gtll9minor2010
DTSTAMP:20100701T202942Z
DESCRIPTION:Laser Tag
DTSTART:20100621T173000
DTEND:20100621T193000
LOCATION:Ultra Zone
END:VEVENT
BEGIN:VEVENT
UID:20100701T222942CEST-6330z32hF1@www.ballcharts.com/gtll9minor2010
DTSTAMP:20100701T202942Z
DTSTART:20100623T193000
DTEND:20100623T213000
LOCATION:GT Minor
SUMMARY:All State 6 @ Serenity 3
END:VEVENT
BEGIN:VEVENT
UID:20100701T222942CEST-6335bvGelu@www.ballcharts.com/gtll9minor2010
DTSTAMP:20100701T202942Z
DTSTART:20100625T173000
DTEND:20100625T193000
LOCATION:GT Minor
SUMMARY:Serenity 3 @ Partners First 8
END:VEVENT
BEGIN:VEVENT
UID:20100701T222942CEST-63413t62zK@www.ballcharts.com/gtll9minor2010
DTSTAMP:20100701T202942Z
DESCRIPTION:Team Picnic & TinCaps Game
DTSTART:20100626T133000
DTEND:20100626T153000
LOCATION:Swinney Park & Parkview Field
END:VEVENT
END:VCALENDAR
